BEGIN:VCALENDAR
VERSION:2.0
PRODID:-//RehabWorks - ECPv6.15.14//NONSGML v1.0//EN
CALSCALE:GREGORIAN
METHOD:PUBLISH
X-WR-CALNAME:RehabWorks
X-ORIGINAL-URL:https://rehabworks-llc.com
X-WR-CALDESC:Events for RehabWorks
REFRESH-INTERVAL;VALUE=DURATION:PT1H
X-Robots-Tag:noindex
X-PUBLISHED-TTL:PT1H
BEGIN:VTIMEZONE
TZID:America/New_York
BEGIN:DAYLIGHT
TZOFFSETFROM:-0500
TZOFFSETTO:-0400
TZNAME:EDT
DTSTART:20190310T070000
END:DAYLIGHT
BEGIN:STANDARD
TZOFFSETFROM:-0400
TZOFFSETTO:-0500
TZNAME:EST
DTSTART:20191103T060000
END:STANDARD
BEGIN:DAYLIGHT
TZOFFSETFROM:-0500
TZOFFSETTO:-0400
TZNAME:EDT
DTSTART:20200308T070000
END:DAYLIGHT
BEGIN:STANDARD
TZOFFSETFROM:-0400
TZOFFSETTO:-0500
TZNAME:EST
DTSTART:20201101T060000
END:STANDARD
BEGIN:DAYLIGHT
TZOFFSETFROM:-0500
TZOFFSETTO:-0400
TZNAME:EDT
DTSTART:20210314T070000
END:DAYLIGHT
BEGIN:STANDARD
TZOFFSETFROM:-0400
TZOFFSETTO:-0500
TZNAME:EST
DTSTART:20211107T060000
END:STANDARD
END:VTIMEZONE
BEGIN:VEVENT
DTSTART;TZID=America/New_York:20200714T090000
DTEND;TZID=America/New_York:20200714T130000
DTSTAMP:20260422T065212
CREATED:20230619T205504Z
LAST-MODIFIED:20230619T212922Z
UID:7166-1594717200-1594731600@rehabworks-llc.com
SUMMARY:Lecture - Health and Wellness
DESCRIPTION:
URL:https://rehabworks-llc.com/event/lecture-health-and-wellness/
LOCATION:Lecture – Vanderbilt\, 7273 Vanderbilt Beach Rd Suite18\, Naples\, FL\, 34119\, United States
CATEGORIES:Lectures
END:VEVENT
END:VCALENDAR